BEGIN:VCALENDAR
VERSION:2.0
PRODID:-//Exeter Rowing Club - ECPv6.3.7//NONSGML v1.0//EN
CALSCALE:GREGORIAN
METHOD:PUBLISH
X-ORIGINAL-URL:https://exeterrowingclub.com
X-WR-CALDESC:Events for Exeter Rowing Club
REFRESH-INTERVAL;VALUE=DURATION:PT1H
X-Robots-Tag:noindex
X-PUBLISHED-TTL:PT1H
BEGIN:VTIMEZONE
TZID:Europe/London
BEGIN:DAYLIGHT
TZOFFSETFROM:+0000
TZOFFSETTO:+0100
TZNAME:BST
DTSTART:20190331T010000
END:DAYLIGHT
BEGIN:STANDARD
TZOFFSETFROM:+0100
TZOFFSETTO:+0000
TZNAME:GMT
DTSTART:20191027T010000
END:STANDARD
END:VTIMEZONE
BEGIN:VEVENT
DTSTART;TZID=Europe/London:20191207T080000
DTEND;TZID=Europe/London:20191207T170000
DTSTAMP:20260423T204131
CREATED:20190901T212055Z
LAST-MODIFIED:20191124T203927Z
UID:11978-1575705600-1575738000@exeterrowingclub.com
SUMMARY:Exeter Winter Head Race - cancelled
DESCRIPTION:We have had to take the sad decision to cancel the head race.  \n\n\n\nThe part of the course up to the Turf Hotel has too much weed which will not clear by the 7th December. \n\n\n\nThank you to everyone who had entered to race and we hope to run another Head Race on 14th March so please put that in your diary.
URL:https://exeterrowingclub.com/calendar/exeter-winter-head-race/
LOCATION:Exeter University Boat House\, Bridge Road\, Exeter\, ​EX2 7AA\, United Kingdom
CATEGORIES:Head Race
ATTACH;FMTTYPE=image/png:https://exeterrowingclub.com/wp-content/uploads/2019/04/ERC-Logo-News-Banner.png
END:VEVENT
END:VCALENDAR